BEGIN:VCALENDAR
VERSION:2.0
PRODID:-//Contratero//ES
CALSCALE:GREGORIAN
METHOD:PUBLISH
BEGIN:VEVENT
UID:CONTR 2018 11400@contratero.es
DTSTAMP:20260425T225931Z
DTSTART:20190128T235959
DTEND:20190129T005959
SUMMARY:Cierre: Recogida\, procesamiento y difusión del escrutinio 
DESCRIPTION:Recogida\, procesamiento y difusión del escrutinio provisional de las elecciones autonómicas de 2019\\n\\nOrganismo: Consejería de Presidencia\\n\\nVer en Contratero: https://contratero.es/contracts/CONTR 2018 11400
URL:https://contratero.es/contracts/CONTR 2018 11400
STATUS:CONFIRMED
BEGIN:VALARM
TRIGGER:-P1D
ACTION:DISPLAY
DESCRIPTION:Recordatorio: Recogida\, procesamiento y difu
END:VALARM
END:VEVENT
END:VCALENDAR